BEGIN:VCALENDAR
VERSION:2.0
PRODID:-//hacksw/handcal//NONSGML v1.0//EN
BEGIN:VEVENT
SUMMARY:U13  Noirmoutier 1 - Bretignolles1
UID:08fcb44f-aa03-4f74-8293-3acd6ee35a03
DTSTART:20260328T093000Z
DTEND:20260328T110000Z
LOCATION:Localisation   
CATEGORIES:Sportif
STATUS:
URL;VALUE=URI:https://www.fc-noirmoutier.com/evenements/2026/03/28/u13-noirmoutier-1-bretignolles1-2400078
END:VEVENT
END:VCALENDAR
