BEGIN:VCALENDAR
VERSION:2.0
PRODID:-//hacksw/handcal//NONSGML v1.0//EN
BEGIN:VEVENT
SUMMARY:Riez Fenouiller 1 - Noirmoutier 1
UID:ea9bf101-9c14-496e-bfa1-0e7d0147626c
DTSTART:20260329T130000Z
DTEND:20260329T150000Z
LOCATION:Localisation   
CATEGORIES:Sportif
STATUS:
URL;VALUE=URI:https://www.fc-noirmoutier.com/evenements/2026/03/29/riez-fenouiller-1-noirmoutier-1-2067990
END:VEVENT
END:VCALENDAR
