BEGIN:VCALENDAR
VERSION:2.0
PRODID:-//hacksw/handcal//NONSGML v1.0//EN
BEGIN:VEVENT
SUMMARY:U 18 F Pays de Mts - Garnache
UID:54a71bd6-412b-4d24-9df8-6a937e3dc643
DTSTART:20260328T140000Z
DTEND:20260328T160000Z
LOCATION:Localisation   
CATEGORIES:Sportif
STATUS:
URL;VALUE=URI:https://www.fc-noirmoutier.com/evenements/2026/03/28/u-18-f-pays-de-mts-garnache-2375285
END:VEVENT
END:VCALENDAR
